BEGIN:VCALENDAR
VERSION:2.0
PRODID:-//Kappa Kappa Sigma - ECPv6.2.5//NONSGML v1.0//EN
CALSCALE:GREGORIAN
METHOD:PUBLISH
X-ORIGINAL-URL:https://www.kappakappasigma.com
X-WR-CALDESC:Events for Kappa Kappa Sigma
REFRESH-INTERVAL;VALUE=DURATION:PT1H
X-Robots-Tag:noindex
X-PUBLISHED-TTL:PT1H
BEGIN:VTIMEZONE
TZID:America/New_York
BEGIN:DAYLIGHT
TZOFFSETFROM:-0500
TZOFFSETTO:-0400
TZNAME:EDT
DTSTART:20250309T070000
END:DAYLIGHT
BEGIN:STANDARD
TZOFFSETFROM:-0400
TZOFFSETTO:-0500
TZNAME:EST
DTSTART:20251102T060000
END:STANDARD
END:VTIMEZONE
BEGIN:VEVENT
DTSTART;TZID=America/New_York:20251111T173000
DTEND;TZID=America/New_York:20251111T210000
DTSTAMP:20260420T074417
CREATED:20250815T233410Z
LAST-MODIFIED:20250827T231450Z
UID:10000028-1762882200-1762894800@www.kappakappasigma.com
SUMMARY:Christmas Auction
DESCRIPTION:
URL:https://www.kappakappasigma.com/event/christmas-auction/
CATEGORIES:Nu
END:VEVENT
END:VCALENDAR