BEGIN:VCALENDAR
VERSION:2.0
PRODID:-//Kappa Kappa Sigma - ECPv6.2.5//NONSGML v1.0//EN
CALSCALE:GREGORIAN
METHOD:PUBLISH
X-WR-CALNAME:Kappa Kappa Sigma
X-ORIGINAL-URL:https://www.kappakappasigma.com
X-WR-CALDESC:Events for Kappa Kappa Sigma
REFRESH-INTERVAL;VALUE=DURATION:PT1H
X-Robots-Tag:noindex
X-PUBLISHED-TTL:PT1H
BEGIN:VTIMEZONE
TZID:America/New_York
BEGIN:DAYLIGHT
TZOFFSETFROM:-0500
TZOFFSETTO:-0400
TZNAME:EDT
DTSTART:20240310T070000
END:DAYLIGHT
BEGIN:STANDARD
TZOFFSETFROM:-0400
TZOFFSETTO:-0500
TZNAME:EST
DTSTART:20241103T060000
END:STANDARD
BEGIN:DAYLIGHT
TZOFFSETFROM:-0500
TZOFFSETTO:-0400
TZNAME:EDT
DTSTART:20250309T070000
END:DAYLIGHT
BEGIN:STANDARD
TZOFFSETFROM:-0400
TZOFFSETTO:-0500
TZNAME:EST
DTSTART:20251102T060000
END:STANDARD
END:VTIMEZONE
BEGIN:VEVENT
DTSTART;TZID=America/New_York:20250909T180000
DTEND;TZID=America/New_York:20250909T200000
DTSTAMP:20260420T170757
CREATED:20250604T161549Z
LAST-MODIFIED:20250813T210335Z
UID:10000023-1757440800-1757448000@www.kappakappasigma.com
SUMMARY:Purse Bingo
DESCRIPTION:August 13–Tickets are still available
URL:https://www.kappakappasigma.com/event/purse-bingo/
ATTACH;FMTTYPE=application/pdf:https://www.kappakappasigma.com/wp-content/uploads/2025/06/bingo-flyer-with-tixket-date-and-time.pdf
END:VEVENT
BEGIN:VEVENT
DTSTART;TZID=America/New_York:20250817T110000
DTEND;TZID=America/New_York:20250817T150000
DTSTAMP:20260420T170757
CREATED:20250817T175334Z
LAST-MODIFIED:20250817T175334Z
UID:10000029-1755428400-1755442800@www.kappakappasigma.com
SUMMARY:Zeta Bazaar
DESCRIPTION:
URL:https://www.kappakappasigma.com/event/zeta-bazaar/
ATTACH;FMTTYPE=image/jpeg:https://www.kappakappasigma.com/wp-content/uploads/2025/08/bazaar-2-2024.jpg
END:VEVENT
BEGIN:VEVENT
DTSTART;TZID=America/New_York:20250717T080000
DTEND;TZID=America/New_York:20250719T120000
DTSTAMP:20260420T170757
CREATED:20250626T141549Z
LAST-MODIFIED:20250626T141549Z
UID:10000024-1752739200-1752926400@www.kappakappasigma.com
SUMMARY:2nd Annual Kappa Chapter Garage Sale
DESCRIPTION:
URL:https://www.kappakappasigma.com/event/2nd-annual-kappa-chapter-garage-sale-2/
END:VEVENT
BEGIN:VEVENT
DTSTART;TZID=America/New_York:20250621T110000
DTEND;TZID=America/New_York:20250621T150000
DTSTAMP:20260420T170757
CREATED:20240206T211838Z
LAST-MODIFIED:20250409T221626Z
UID:10000007-1750503600-1750518000@www.kappakappasigma.com
SUMMARY:Zeta Bag Luncheon
DESCRIPTION:The Zeta Bag Luncheon began in 2007 to benefit those in Fayette County who have been affected by cancer. Profit from this event is donated to the Fayette County Cancer Society. Tickets are $12 each or $80 for a table of 8. \nContact Cindy Young \n765-309-2868 to reserve your tickets
URL:https://www.kappakappasigma.com/event/zeta-bag-luncheon/
LOCATION:John Miller Center\, 2900 N Pk Rd\, Connersville\, Indiana\, 47331
CATEGORIES:Zeta
ATTACH;FMTTYPE=image/png:https://www.kappakappasigma.com/wp-content/uploads/2024/02/2025-zeta-bag-luncheon.png
END:VEVENT
BEGIN:VEVENT
DTSTART;TZID=America/New_York:20250510T090000
DTEND;TZID=America/New_York:20250510T150000
DTSTAMP:20260420T170757
CREATED:20250313T142417Z
LAST-MODIFIED:20250409T230356Z
UID:10000019-1746867600-1746889200@www.kappakappasigma.com
SUMMARY:Craft Fair
DESCRIPTION:
URL:https://www.kappakappasigma.com/event/craft-fair/
CATEGORIES:Beta
ATTACH;FMTTYPE=image/jpeg:https://www.kappakappasigma.com/wp-content/uploads/2025/03/img_3612.jpeg
END:VEVENT
BEGIN:VEVENT
DTSTART;TZID=America/New_York:20250510T090000
DTEND;TZID=America/New_York:20250510T120000
DTSTAMP:20260420T170757
CREATED:20250409T225835Z
LAST-MODIFIED:20250416T132232Z
UID:10000020-1746867600-1746878400@www.kappakappasigma.com
SUMMARY:Chi's Mother's Day Bakesale
DESCRIPTION:Stop by and grab a treat for your mom (or yourself)! We will have pies\, cakes\, cookies\, chocolate covered strawberries\, and more! If you’re in the area\, we would love to see you. We will be set up on the corner of Main and 4th streets in beautiful downtown Gosport. You can’t miss us!
URL:https://www.kappakappasigma.com/event/chi-chapters-mothers-day-bakesale/
CATEGORIES:Chi
ATTACH;FMTTYPE=image/png:https://www.kappakappasigma.com/wp-content/uploads/2025/04/bakesale.png
END:VEVENT
BEGIN:VEVENT
DTSTART;VALUE=DATE:20250510
DTEND;VALUE=DATE:20250511
DTSTAMP:20260420T170757
CREATED:20250115T204045Z
LAST-MODIFIED:20250409T230345Z
UID:10000018-1746835200-1746921599@www.kappakappasigma.com
SUMMARY:Spring Craft Show - Beta Chapter
DESCRIPTION:
URL:https://www.kappakappasigma.com/event/spring-craft-show-beta-chapter/
CATEGORIES:Beta
END:VEVENT
BEGIN:VEVENT
DTSTART;TZID=America/New_York:20250118T120000
DTEND;TZID=America/New_York:20250118T140000
DTSTAMP:20260420T170757
CREATED:20231012T021846Z
LAST-MODIFIED:20250114T014015Z
UID:10000001-1737201600-1737208800@www.kappakappasigma.com
SUMMARY:Founder's Day
DESCRIPTION:
URL:https://www.kappakappasigma.com/event/founders-day/
LOCATION:Avon Christian Church\, 7236 E County Road 100 S.\, Avon\, IN\, 46123
CATEGORIES:Alpha
ATTACH;FMTTYPE=image/png:https://www.kappakappasigma.com/wp-content/uploads/2023/10/founders-day-2025.png
END:VEVENT
BEGIN:VEVENT
DTSTART;TZID=America/New_York:20241203T183000
DTEND;TZID=America/New_York:20241203T213000
DTSTAMP:20260420T170757
CREATED:20241118T162001Z
LAST-MODIFIED:20250409T230336Z
UID:10000017-1733250600-1733261400@www.kappakappasigma.com
SUMMARY:Annual Christmas Dinner and Auction hosted by Kappa Chapter!
DESCRIPTION:
URL:https://www.kappakappasigma.com/event/annual-christmas-dinner-and-auction-hosted-by-kappa-chapter/
CATEGORIES:Kappa
END:VEVENT
BEGIN:VEVENT
DTSTART;TZID=America/New_York:20240810T150000
DTEND;TZID=America/New_York:20240810T170000
DTSTAMP:20260420T170757
CREATED:20240720T211402Z
LAST-MODIFIED:20240720T211402Z
UID:10000016-1723302000-1723309200@www.kappakappasigma.com
SUMMARY:Gosport Lazy Days Raffle
DESCRIPTION:
URL:https://www.kappakappasigma.com/event/gosport-lazy-days-raffle/
LOCATION:Gosport\, IN Town Park\, 15 S 3rd St\, Gosport\, IN\, 47433\, United States
CATEGORIES:Chi
END:VEVENT
BEGIN:VEVENT
DTSTART;TZID=America/New_York:20240801T173000
DTEND;TZID=America/New_York:20240804T203000
DTSTAMP:20260420T170757
CREATED:20240609T204741Z
LAST-MODIFIED:20240720T210614Z
UID:10000014-1722533400-1722803400@www.kappakappasigma.com
SUMMARY:Ice Cream Sundae Stand @ Old Settler's Picnic
DESCRIPTION:
URL:https://www.kappakappasigma.com/event/ice-cream-sundae-stand-old-settlers-picnic/
CATEGORIES:Kappa
END:VEVENT
BEGIN:VEVENT
DTSTART;VALUE=DATE:20240713
DTEND;VALUE=DATE:20240719
DTSTAMP:20260420T170757
CREATED:20240423T004405Z
LAST-MODIFIED:20250409T230325Z
UID:10000012-1720828800-1721347199@www.kappakappasigma.com
SUMMARY:White County 4-H Fair
DESCRIPTION:
URL:https://www.kappakappasigma.com/event/white-county-4-h-fair/
CATEGORIES:Beta
END:VEVENT
BEGIN:VEVENT
DTSTART;TZID=America/New_York:20240519T140000
DTEND;TZID=America/New_York:20240519T170000
DTSTAMP:20260420T170757
CREATED:20240506T024945Z
LAST-MODIFIED:20240506T025111Z
UID:10000013-1716127200-1716138000@www.kappakappasigma.com
SUMMARY:Alpha Alpha Spring Fundraiser
DESCRIPTION:Need an afternoon with the girls? Need a little shopping therapy…graduation gift\, something special for the grand kids\, your bestest friend\, or how about something extra fabulous for yourself! Then please\, join us for a Spring fundraiser at Cynthia’s Hallmark and Boutique in beautiful Greenfield\, Indiana. Come early to Greenfield and enjoy lunch or stay for an early dinner at The Depot\, Applebee’s\, Mountain Mike’s\, Cracker Barrel\, Wasabi Japanese Steakhouse\, or any number of great places to have a meal! Tickets are $15 and you will receive a free piece of jewelry\, appetizers\, door prizes\, a fabulous fashion show featuring our own Kappa Kappa Sigma Sisters\, and 3 store coupons! \nHope to see you there!
URL:https://www.kappakappasigma.com/event/16731/
LOCATION:Cynthia’s Hallmark and Boutique\, Green Meadows Shopping Center\, 1584 N State St.\, Greenfield\, IN\, 46140\, United States
CATEGORIES:Alpha Alpha
END:VEVENT
BEGIN:VEVENT
DTSTART;VALUE=DATE:20240517
DTEND;VALUE=DATE:20240519
DTSTAMP:20260420T170757
CREATED:20240206T212231Z
LAST-MODIFIED:20240207T195135Z
UID:10000008-1715904000-1716076799@www.kappakappasigma.com
SUMMARY:Concessions for Franklin County Quilt Show
DESCRIPTION:
URL:https://www.kappakappasigma.com/event/concessions-for-franklin-county-quilt-show/
CATEGORIES:Zeta
END:VEVENT
END:VCALENDAR